BEGIN:VCALENDAR
VERSION:2.0
PRODID:-//BCOP Birmingham - ECPv6.15.20//NONSGML v1.0//EN
CALSCALE:GREGORIAN
METHOD:PUBLISH
X-ORIGINAL-URL:https://bcop.org.uk
X-WR-CALDESC:Events for BCOP Birmingham
REFRESH-INTERVAL;VALUE=DURATION:PT1H
X-Robots-Tag:noindex
X-PUBLISHED-TTL:PT1H
BEGIN:VTIMEZONE
TZID:Europe/London
BEGIN:DAYLIGHT
TZOFFSETFROM:+0000
TZOFFSETTO:+0100
TZNAME:BST
DTSTART:20250330T010000
END:DAYLIGHT
BEGIN:STANDARD
TZOFFSETFROM:+0100
TZOFFSETTO:+0000
TZNAME:GMT
DTSTART:20251026T010000
END:STANDARD
BEGIN:DAYLIGHT
TZOFFSETFROM:+0000
TZOFFSETTO:+0100
TZNAME:BST
DTSTART:20260329T010000
END:DAYLIGHT
BEGIN:STANDARD
TZOFFSETFROM:+0100
TZOFFSETTO:+0000
TZNAME:GMT
DTSTART:20261025T010000
END:STANDARD
BEGIN:DAYLIGHT
TZOFFSETFROM:+0000
TZOFFSETTO:+0100
TZNAME:BST
DTSTART:20270328T010000
END:DAYLIGHT
BEGIN:STANDARD
TZOFFSETFROM:+0100
TZOFFSETTO:+0000
TZNAME:GMT
DTSTART:20271031T010000
END:STANDARD
END:VTIMEZONE
BEGIN:VEVENT
DTSTART;TZID=Europe/London:20260101T100000
DTEND;TZID=Europe/London:20260101T120000
DTSTAMP:20260419T184639
CREATED:20250519T113358Z
LAST-MODIFIED:20260121T150257Z
UID:10000345-1767261600-1767268800@bcop.org.uk
SUMMARY:Dementia cafe at Neville Williams House
DESCRIPTION:Dementia cafes are  informal\, monthly events where people with dementia and their carers can meet and get to know others on a similar journey. \nThe meetings are run by experienced advisors who provide practical support\, advice  and information. They have expert guest speakers. \nEveryone is encouraged to take part in dementia friendly activities\, which will include talks\, music\, arts and crafts\, games and quizzes. They are a great opportunity to have a chat and make new friends. \nOur BCOP care home staff work with the Birmingham Dementia Carers Hub (a partnership between Age UK Birmingham\, Age Concern Birmingham and Dementia Carers Count Birmingham that provides a range of support to those who look after someone with dementia) to support you. \nAll our dementia cafes are free\, so why not come along to one and have a cup of tea with someone who understands?
URL:https://bcop.org.uk/event/dec-dementia-cafe-nwh/2026-01-01/
LOCATION:Neville Williams House\, 8-14 Greenland Road\, Birmingham\, B29 7PP\, United Kingdom
CATEGORIES:Dementia cafe
ATTACH;FMTTYPE=image/png:https://bcop.org.uk/wp-content/uploads/2025/05/NWH-Event-banner-1000x625-1.png
ORGANIZER;CN="BCOP":MAILTO:general@bcop.org.uk
END:VEVENT
BEGIN:VEVENT
DTSTART;TZID=Europe/London:20260120T100000
DTEND;TZID=Europe/London:20260120T120000
DTSTAMP:20260419T184639
CREATED:20260119T135933Z
LAST-MODIFIED:20260119T144331Z
UID:10000084-1768903200-1768910400@bcop.org.uk
SUMMARY:Arts and craft club at Edgcumbe Court
DESCRIPTION:Our new weekly art and craft club will be various activities including jewellery making\, chalk drawing\, stone painting and making decorations. We'll be getting ready for spring by repainting our garden ornaments. \nAll the materials for our arts and craft club are kindly donated by the Birmingham Multibank.
URL:https://bcop.org.uk/event/arts-craft-club-edgcumbe-court/
CATEGORIES:Creative arts
ATTACH;FMTTYPE=image/png:https://bcop.org.uk/wp-content/uploads/2026/01/Art-craft-scaled.png
ORGANIZER;CN="BCOP":MAILTO:general@bcop.org.uk
END:VEVENT
BEGIN:VEVENT
DTSTART;TZID=Europe/London:20260123T113000
DTEND;TZID=Europe/London:20260123T123000
DTSTAMP:20260419T184639
CREATED:20260121T152041Z
LAST-MODIFIED:20260121T152041Z
UID:10000406-1769167800-1769171400@bcop.org.uk
SUMMARY:Residents coffee morning at Anita Stone Court
DESCRIPTION:Residents are all welcome to join their tenant support officers and catch up on community news at our friendly weekly coffee mornings.
URL:https://bcop.org.uk/event/residents-coffee-morning-at-anita-stone-court/2026-01-23/
CATEGORIES:Residents meetings
ATTACH;FMTTYPE=image/png:https://bcop.org.uk/wp-content/uploads/2026/01/ASC-Friday-coffee-mornings-scaled.png
END:VEVENT
BEGIN:VEVENT
DTSTART;TZID=Europe/London:20260127T100000
DTEND;TZID=Europe/London:20260127T120000
DTSTAMP:20260419T184639
CREATED:20260120T155226Z
LAST-MODIFIED:20260120T155226Z
UID:10000085-1769508000-1769515200@bcop.org.uk
SUMMARY:Arts and craft club at Edgcumbe Court
DESCRIPTION:Our weekly art and craft club will be various activities including jewellery making\, chalk drawing\, stone painting and making decorations. We'll be getting ready for spring by repainting our garden ornaments. \nAll the materials for our arts and craft club are kindly donated by the Birmingham Multibank.
URL:https://bcop.org.uk/event/arts-and-craft-club-at-edgcumbe-court/
LOCATION:Edgecumbe Court\, Walford Green\, Bartley Green\, Birmingham\, West Midlands\, B32 4DP\, United Kingdom
CATEGORIES:Creative arts
ATTACH;FMTTYPE=image/png:https://bcop.org.uk/wp-content/uploads/2026/01/Art-craft-scaled.png
ORGANIZER;CN="BCOP":MAILTO:general@bcop.org.uk
END:VEVENT
BEGIN:VEVENT
DTSTART;TZID=Europe/London:20260130T113000
DTEND;TZID=Europe/London:20260130T123000
DTSTAMP:20260419T184639
CREATED:20260121T152041Z
LAST-MODIFIED:20260121T152041Z
UID:10000407-1769772600-1769776200@bcop.org.uk
SUMMARY:Residents coffee morning at Anita Stone Court
DESCRIPTION:Residents are all welcome to join their tenant support officers and catch up on community news at our friendly weekly coffee mornings.
URL:https://bcop.org.uk/event/residents-coffee-morning-at-anita-stone-court/2026-01-30/
CATEGORIES:Residents meetings
ATTACH;FMTTYPE=image/png:https://bcop.org.uk/wp-content/uploads/2026/01/ASC-Friday-coffee-mornings-scaled.png
END:VEVENT
END:VCALENDAR