BEGIN:VCALENDAR
VERSION:2.0
PRODID:-//BCOP Birmingham - ECPv6.15.20//NONSGML v1.0//EN
CALSCALE:GREGORIAN
METHOD:PUBLISH
X-ORIGINAL-URL:https://bcop.org.uk
X-WR-CALDESC:Events for BCOP Birmingham
REFRESH-INTERVAL;VALUE=DURATION:PT1H
X-Robots-Tag:noindex
X-PUBLISHED-TTL:PT1H
BEGIN:VTIMEZONE
TZID:Europe/London
BEGIN:DAYLIGHT
TZOFFSETFROM:+0000
TZOFFSETTO:+0100
TZNAME:BST
DTSTART:20240331T010000
END:DAYLIGHT
BEGIN:STANDARD
TZOFFSETFROM:+0100
TZOFFSETTO:+0000
TZNAME:GMT
DTSTART:20241027T010000
END:STANDARD
BEGIN:DAYLIGHT
TZOFFSETFROM:+0000
TZOFFSETTO:+0100
TZNAME:BST
DTSTART:20250330T010000
END:DAYLIGHT
BEGIN:STANDARD
TZOFFSETFROM:+0100
TZOFFSETTO:+0000
TZNAME:GMT
DTSTART:20251026T010000
END:STANDARD
BEGIN:DAYLIGHT
TZOFFSETFROM:+0000
TZOFFSETTO:+0100
TZNAME:BST
DTSTART:20260329T010000
END:DAYLIGHT
BEGIN:STANDARD
TZOFFSETFROM:+0100
TZOFFSETTO:+0000
TZNAME:GMT
DTSTART:20261025T010000
END:STANDARD
END:VTIMEZONE
BEGIN:VEVENT
DTSTART;VALUE=DATE:20251105
DTEND;VALUE=DATE:20251106
DTSTAMP:20260419T213659
CREATED:20250908T144924Z
LAST-MODIFIED:20250912T075111Z
UID:10000055-1762300800-1762387199@bcop.org.uk
SUMMARY:Guy Fawkes event
DESCRIPTION:Join in some bonfire night fun as the activities team organise a Guy Fawkes themed day
URL:https://bcop.org.uk/event/bonfire-night-at-neville-williams-house/
LOCATION:Neville Williams House\, 8-14 Greenland Road\, Birmingham\, B29 7PP\, United Kingdom
ORGANIZER;CN="BCOP":MAILTO:general@bcop.org.uk
END:VEVENT
BEGIN:VEVENT
DTSTART;VALUE=DATE:20251105
DTEND;VALUE=DATE:20251106
DTSTAMP:20260419T213659
CREATED:20250912T075333Z
LAST-MODIFIED:20250912T081119Z
UID:10000063-1762300800-1762387199@bcop.org.uk
SUMMARY:Bonfire night celebration at Anita Stone Court
DESCRIPTION:Bonfire Night Indoors\nCelebrate Bonfire Night in the warmth with hot chocolate\, fireworks at the garden\, hot dogs\, and a cozy BBQ night with music. A festive evening to enjoy together.
URL:https://bcop.org.uk/event/bonfire-night-celebration-at-anita-stone-court/
LOCATION:Anita Stone Court\, 20 Moor Green Lane\, Moseley\, Birmingham\,\, B13 8ND\, United Kingdom
ORGANIZER;CN="BCOP":MAILTO:general@bcop.org.uk
END:VEVENT
BEGIN:VEVENT
DTSTART;TZID=Europe/London:20251105T143000
DTEND;TZID=Europe/London:20251105T160000
DTSTAMP:20260419T213659
CREATED:20251027T172804Z
LAST-MODIFIED:20251027T172935Z
UID:10000070-1762353000-1762358400@bcop.org.uk
SUMMARY:Live performance by Tony Wall at Robert Harvey House
DESCRIPTION:Live performance by Tony Wall at Robert Harvey House. \nTony is a talented performer with an extensive and varied repertoire\, who is also an avid supporter of open-mics around the area...and a big Jim Reeves fan.
URL:https://bcop.org.uk/event/tony-wall-at-robert-harvey-house/
LOCATION:Robert Harvey House\, Hawthorn Park\, Handsworth Wood\, Birmingham\, B20 1AD\, United Kingdom
CATEGORIES:Music
ORGANIZER;CN="BCOP":MAILTO:general@bcop.org.uk
END:VEVENT
BEGIN:VEVENT
DTSTART;TZID=Europe/London:20251106T100000
DTEND;TZID=Europe/London:20251106T120000
DTSTAMP:20260419T213659
CREATED:20250519T113313Z
LAST-MODIFIED:20251020T112415Z
UID:10000045-1762423200-1762430400@bcop.org.uk
SUMMARY:Dementia cafe at Neville Williams House
DESCRIPTION:Dementia cafes are  informal\, monthly events where people with dementia and their carers can meet and get to know others on a similar journey. \nThe meetings are run by experienced advisors who provide practical support\, advice  and information. They have expert guest speakers. \nEveryone is encouraged to take part in dementia friendly activities\, which will include talks\, music\, arts and crafts\, games and quizzes. They are a great opportunity to have a chat and make new friends. \nOur BCOP care home staff work with the Birmingham Dementia Carers Hub (a partnership between Age UK Birmingham\, Age Concern Birmingham and Dementia Carers Count Birmingham that provides a range of support to those who look after someone with dementia) to support you. \nAll our dementia cafes are free\, so why not come along to one and have a cup of tea with someone who understands?
URL:https://bcop.org.uk/event/nov-dementia-cafe-nwh/
LOCATION:Neville Williams House\, 8-14 Greenland Road\, Birmingham\, B29 7PP\, United Kingdom
CATEGORIES:Dementia cafe
ATTACH;FMTTYPE=image/png:https://bcop.org.uk/wp-content/uploads/2024/07/Website-Banner-dementia-cafes-scaled.png
ORGANIZER;CN="BCOP":MAILTO:general@bcop.org.uk
END:VEVENT
BEGIN:VEVENT
DTSTART;VALUE=DATE:20251111
DTEND;VALUE=DATE:20251112
DTSTAMP:20260419T213659
CREATED:20250912T075534Z
LAST-MODIFIED:20251020T112950Z
UID:10000064-1762819200-1762905599@bcop.org.uk
SUMMARY:Remembrance day at Anita Stone Court
DESCRIPTION:Join us for a paper poppy-making activity\, followed by a moment of silence with music to honor and remember those who served
URL:https://bcop.org.uk/event/remembrance-day-at-anita-stone-court/
LOCATION:Anita Stone Court\, 20 Moor Green Lane\, Moseley\, Birmingham\,\, B13 8ND\, United Kingdom
ORGANIZER;CN="BCOP":MAILTO:general@bcop.org.uk
END:VEVENT
BEGIN:VEVENT
DTSTART;TZID=Europe/London:20251117T150000
DTEND;TZID=Europe/London:20251117T160000
DTSTAMP:20260419T213659
CREATED:20251105T105342Z
LAST-MODIFIED:20251105T105801Z
UID:10000074-1763391600-1763395200@bcop.org.uk
SUMMARY:Country & Irish music with Little Jimmy at Neville Williams house
DESCRIPTION:Residents and guests will be enjoying lively company and good music with Little Jimmy this afternoon in the lounge.
URL:https://bcop.org.uk/event/country-irish-music-at-neville-williams-house/
LOCATION:Neville Williams House\, 8-14 Greenland Road\, Birmingham\, B29 7PP\, United Kingdom
CATEGORIES:Music
ORGANIZER;CN="BCOP":MAILTO:general@bcop.org.uk
END:VEVENT
BEGIN:VEVENT
DTSTART;VALUE=DATE:20251119
DTEND;VALUE=DATE:20251120
DTSTAMP:20260419T213659
CREATED:20250912T075919Z
LAST-MODIFIED:20250912T075919Z
UID:10000065-1763510400-1763596799@bcop.org.uk
SUMMARY:Memory sharing: wartime & childhood stories
DESCRIPTION:An afternoon of memories and reflections as we invite war heroes to share their experiences\, alongside a special speech from our resident\, servicewoman BC.
URL:https://bcop.org.uk/event/wartime-childhood-stories-at-anita-stone-court/
LOCATION:Anita Stone Court\, 20 Moor Green Lane\, Moseley\, Birmingham\,\, B13 8ND\, United Kingdom
ORGANIZER;CN="BCOP":MAILTO:general@bcop.org.uk
END:VEVENT
END:VCALENDAR