BEGIN:VCALENDAR
VERSION:2.0
PRODID:-//BCOP Birmingham - ECPv6.15.20//NONSGML v1.0//EN
CALSCALE:GREGORIAN
METHOD:PUBLISH
X-WR-CALNAME:BCOP Birmingham
X-ORIGINAL-URL:https://bcop.org.uk
X-WR-CALDESC:Events for BCOP Birmingham
REFRESH-INTERVAL;VALUE=DURATION:PT1H
X-Robots-Tag:noindex
X-PUBLISHED-TTL:PT1H
BEGIN:VTIMEZONE
TZID:Europe/London
BEGIN:DAYLIGHT
TZOFFSETFROM:+0000
TZOFFSETTO:+0100
TZNAME:BST
DTSTART:20240331T010000
END:DAYLIGHT
BEGIN:STANDARD
TZOFFSETFROM:+0100
TZOFFSETTO:+0000
TZNAME:GMT
DTSTART:20241027T010000
END:STANDARD
BEGIN:DAYLIGHT
TZOFFSETFROM:+0000
TZOFFSETTO:+0100
TZNAME:BST
DTSTART:20250330T010000
END:DAYLIGHT
BEGIN:STANDARD
TZOFFSETFROM:+0100
TZOFFSETTO:+0000
TZNAME:GMT
DTSTART:20251026T010000
END:STANDARD
BEGIN:DAYLIGHT
TZOFFSETFROM:+0000
TZOFFSETTO:+0100
TZNAME:BST
DTSTART:20260329T010000
END:DAYLIGHT
BEGIN:STANDARD
TZOFFSETFROM:+0100
TZOFFSETTO:+0000
TZNAME:GMT
DTSTART:20261025T010000
END:STANDARD
END:VTIMEZONE
BEGIN:VEVENT
DTSTART;TZID=Europe/London:20250904T103000
DTEND;TZID=Europe/London:20250904T123000
DTSTAMP:20260420T011403
CREATED:20250519T113143Z
LAST-MODIFIED:20250519T113143Z
UID:10000043-1756981800-1756989000@bcop.org.uk
SUMMARY:Dementia cafe at Neville Williams House
DESCRIPTION:Dementia cafes are  informal\, monthly events where people with dementia and their carers can meet and get to know others on a similar journey. \nThe meetings are run by experienced advisors who provide practical support\, advice  and information. They have expert guest speakers. \nEveryone is encouraged to take part in dementia friendly activities\, which will include talks\, music\, arts and crafts\, games and quizzes. They are a great opportunity to have a chat and make new friends. \nOur BCOP care home staff work with the Birmingham Dementia Carers Hub (a partnership between Age UK Birmingham\, Age Concern Birmingham and Dementia Carers Count Birmingham that provides a range of support to those who look after someone with dementia) to support you. \nAll our dementia cafes are free\, so why not come along to one and have a cup of tea with someone who understands?
URL:https://bcop.org.uk/event/sept-dementia-cafe-nwh/
LOCATION:Neville Williams House\, 8-14 Greenland Road\, Birmingham\, B29 7PP\, United Kingdom
CATEGORIES:Dementia cafe
ATTACH;FMTTYPE=image/png:https://bcop.org.uk/wp-content/uploads/2024/07/Website-Banner-dementia-cafes-scaled.png
ORGANIZER;CN="BCOP":MAILTO:general@bcop.org.uk
END:VEVENT
BEGIN:VEVENT
DTSTART;TZID=Europe/London:20250926T100000
DTEND;TZID=Europe/London:20250926T120000
DTSTAMP:20260420T011403
CREATED:20250911T122814Z
LAST-MODIFIED:20250911T122920Z
UID:10000058-1758880800-1758888000@bcop.org.uk
SUMMARY:Macmillan Cancer Support Coffee Morning
DESCRIPTION:Join us for coffee\, cakes\, and friendly conversation in Annie's Bistro while raising funds for Macmillan’s vital work supporting people living with cancer.
URL:https://bcop.org.uk/event/macmillan-coffee-morning-asc/
LOCATION:Anita Stone Court\, 20 Moor Green Lane\, Moseley\, Birmingham\,\, B13 8ND\, United Kingdom
ATTACH;FMTTYPE=image/png:https://bcop.org.uk/wp-content/uploads/2025/09/ASC-Macmillan-coffee-morning-website-event-banner.png
ORGANIZER;CN="BCOP":MAILTO:general@bcop.org.uk
END:VEVENT
END:VCALENDAR