BEGIN:VCALENDAR
VERSION:2.0
PRODID:-//BCOP Birmingham - ECPv6.15.20//NONSGML v1.0//EN
CALSCALE:GREGORIAN
METHOD:PUBLISH
X-ORIGINAL-URL:https://bcop.org.uk
X-WR-CALDESC:Events for BCOP Birmingham
REFRESH-INTERVAL;VALUE=DURATION:PT1H
X-Robots-Tag:noindex
X-PUBLISHED-TTL:PT1H
BEGIN:VTIMEZONE
TZID:Europe/London
BEGIN:DAYLIGHT
TZOFFSETFROM:+0000
TZOFFSETTO:+0100
TZNAME:BST
DTSTART:20240331T010000
END:DAYLIGHT
BEGIN:STANDARD
TZOFFSETFROM:+0100
TZOFFSETTO:+0000
TZNAME:GMT
DTSTART:20241027T010000
END:STANDARD
BEGIN:DAYLIGHT
TZOFFSETFROM:+0000
TZOFFSETTO:+0100
TZNAME:BST
DTSTART:20250330T010000
END:DAYLIGHT
BEGIN:STANDARD
TZOFFSETFROM:+0100
TZOFFSETTO:+0000
TZNAME:GMT
DTSTART:20251026T010000
END:STANDARD
BEGIN:DAYLIGHT
TZOFFSETFROM:+0000
TZOFFSETTO:+0100
TZNAME:BST
DTSTART:20260329T010000
END:DAYLIGHT
BEGIN:STANDARD
TZOFFSETFROM:+0100
TZOFFSETTO:+0000
TZNAME:GMT
DTSTART:20261025T010000
END:STANDARD
END:VTIMEZONE
BEGIN:VEVENT
DTSTART;TZID=Europe/London:20250403T103000
DTEND;TZID=Europe/London:20250403T123000
DTSTAMP:20260420T103133
CREATED:20250219T095041Z
LAST-MODIFIED:20250219T095041Z
UID:10000017-1743676200-1743683400@bcop.org.uk
SUMMARY:Dementia cafe at Neville Williams House
DESCRIPTION:Dementia cafes are  informal\, monthly events where people with dementia and their carers can meet and get to know others on a similar journey. \nThe meetings are run by experienced advisors who provide practical support\, advice  and information. They have expert guest speakers. \nEveryone is encouraged to take part in dementia friendly activities\, which will include talks\, music\, arts and crafts\, games and quizzes. They are a great opportunity to have a chat and make new friends. \nOur BCOP care home staff work with the Birmingham Dementia Carers Hub (a partnership between Age UK Birmingham\, Age Concern Birmingham and Dementia Carers Count Birmingham that provides a range of support to those who look after someone with dementia) to support you. \nAll our dementia cafes are free\, so why not come along to one and have a cup of tea with someone who understands?
URL:https://bcop.org.uk/event/april-5-dementia-cafe-neville-williams-house/
LOCATION:Neville Williams House\, 8-14 Greenland Road\, Birmingham\, B29 7PP\, United Kingdom
CATEGORIES:Dementia cafe
ATTACH;FMTTYPE=image/png:https://bcop.org.uk/wp-content/uploads/2024/07/Website-Banner-dementia-cafes-scaled.png
ORGANIZER;CN="BCOP":MAILTO:general@bcop.org.uk
END:VEVENT
BEGIN:VEVENT
DTSTART;TZID=Europe/London:20250404T100000
DTEND;TZID=Europe/London:20250404T120000
DTSTAMP:20260420T103133
CREATED:20250219T095954Z
LAST-MODIFIED:20250219T095954Z
UID:10000020-1743760800-1743768000@bcop.org.uk
SUMMARY:Dementia cafe at Robert Harvey House
DESCRIPTION:Dementia cafes are  informal\, monthly events where people with dementia and their carers can meet and get to know others on a similar journey. \nThe meetings are run by experienced advisors who provide practical support\, advice  and information. They have expert guest speakers. \nEveryone is encouraged to take part in dementia friendly activities\, which will include talks\, music\, arts and crafts\, games and quizzes. They are a great opportunity to have a chat and make new friends. \nOur BCOP care home staff work with the Birmingham Dementia Carers Hub (a partnership between Age UK Birmingham\, Age Concern Birmingham and Dementia Carers Count Birmingham that provides a range of support to those who look after someone with dementia) to support you. \nAll our dementia cafes are free\, so why not come along to one and have a cup of tea with someone who understands?
URL:https://bcop.org.uk/event/april-25-dementia-cafe-robert-harvey-house/
LOCATION:Robert Harvey House\, Hawthorn Park\, Handsworth Wood\, Birmingham\, B20 1AD\, United Kingdom
CATEGORIES:Dementia cafe
ATTACH;FMTTYPE=image/png:https://bcop.org.uk/wp-content/uploads/2024/07/Website-Banner-dementia-cafes-scaled.png
ORGANIZER;CN="BCOP":MAILTO:general@bcop.org.uk
END:VEVENT
BEGIN:VEVENT
DTSTART;TZID=Europe/London:20250413T103000
DTEND;TZID=Europe/London:20250413T133000
DTSTAMP:20260420T103133
CREATED:20250407T094105Z
LAST-MODIFIED:20250407T094105Z
UID:10000028-1744540200-1744551000@bcop.org.uk
SUMMARY:Thai new year festival\, Songkran\, at Anita Stone Court
DESCRIPTION:Join us as we celebrate Thai New Year (Songkran) at Anita Stone Court with a vibrant and meaningful day of culture\, connection and community. \nOur festivities will begin with a warm welcome\, followed by traditional Thai music and a cultural presentation\, including a Thai blessing. Residents and guests can take part in a range of interactive activities including crafts\, a themed quiz\, and enjoy a specially prepared Thai-inspired lunch. The day will end with more music\, time to socialise and capture memories with photos. \nWe are proud to honour the heritage of one of our Thai residents and look forward to sharing this special celebration with our home community.
URL:https://bcop.org.uk/event/thai-new-year-festival-songkran-at-anita-stone-court/
LOCATION:Anita Stone Court\, 20 Moor Green Lane\, Moseley\, Birmingham\,\, B13 8ND\, United Kingdom
ATTACH;FMTTYPE=image/png:https://bcop.org.uk/wp-content/uploads/2025/04/ASC-Songkran-April-25-1-scaled.png
END:VEVENT
BEGIN:VEVENT
DTSTART;TZID=Europe/London:20250413T150000
DTEND;TZID=Europe/London:20250413T160000
DTSTAMP:20260420T103133
CREATED:20250407T131736Z
LAST-MODIFIED:20250407T131736Z
UID:10000030-1744556400-1744560000@bcop.org.uk
SUMMARY:Easter service
DESCRIPTION:Families and friends are all very welcome to join us for our Easter service at Neville Williams House on Sunday 13th April from 3pm in the main lounge.
URL:https://bcop.org.uk/event/easter-service/
LOCATION:Neville Williams House\, 8-14 Greenland Road\, Birmingham\, B29 7PP\, United Kingdom
END:VEVENT
BEGIN:VEVENT
DTSTART;TZID=Europe/London:20250414T140000
DTEND;TZID=Europe/London:20250414T160000
DTSTAMP:20260420T103133
CREATED:20250407T125131Z
LAST-MODIFIED:20250407T125131Z
UID:10000029-1744639200-1744646400@bcop.org.uk
SUMMARY:Meet the Easter Bunny and Easter fun & games
DESCRIPTION:Neville Williams House will be welcoming the Easter Bunny on Monday\, 14th April. \n  \nThere will be Easter activities\, photos with the Easter Bunny and our famous Easter raffle draw! \n  \nAll friends and families are welcome.
URL:https://bcop.org.uk/event/meet-the-easter-bunny-and-easter-fun/
LOCATION:Neville Williams House\, 8-14 Greenland Road\, Birmingham\, B29 7PP\, United Kingdom
ATTACH;FMTTYPE=image/png:https://bcop.org.uk/wp-content/uploads/2025/04/Web-banner-NWH-Easter-April-25-scaled.png
END:VEVENT
BEGIN:VEVENT
DTSTART;TZID=Europe/London:20250423T143000
DTEND;TZID=Europe/London:20250423T153000
DTSTAMP:20260420T103133
CREATED:20250115T153730Z
LAST-MODIFIED:20250115T153730Z
UID:10000008-1745418600-1745422200@bcop.org.uk
SUMMARY:Ian Casey sings for St George's Day at Robert Harvey House
DESCRIPTION:We're looking forward to welcoming our very own Ian Casey to entertain us for the afternoon in the lounge\, with an English theme to mark St George's Day
URL:https://bcop.org.uk/event/ian-casey-sings-for-st-georges-day-at-robert-harvey-house/
LOCATION:Robert Harvey House\, Hawthorn Park\, Handsworth Wood\, Birmingham\, B20 1AD\, United Kingdom
END:VEVENT
BEGIN:VEVENT
DTSTART;TZID=Europe/London:20250429T103000
DTEND;TZID=Europe/London:20250429T123000
DTSTAMP:20260420T103133
CREATED:20250219T100739Z
LAST-MODIFIED:20250219T100739Z
UID:10000023-1745922600-1745929800@bcop.org.uk
SUMMARY:Dementia cafe at Anita Stone Court
DESCRIPTION:Dementia cafes are  informal\, monthly events where people with dementia and their carers can meet and get to know others on a similar journey. \nThe meetings are run by experienced advisors who provide practical support\, advice  and information. They have expert guest speakers. \nEveryone is encouraged to take part in dementia friendly activities\, which will include talks\, music\, arts and crafts\, games and quizzes. They are a great opportunity to have a chat and make new friends. \nOur BCOP care home staff work with the Birmingham Dementia Carers Hub (a partnership between Age UK Birmingham\, Age Concern Birmingham and Dementia Carers Count Birmingham that provides a range of support to those who look after someone with dementia) to support you. \nAll our dementia cafes are free\, so why not come along to one and have a cup of tea with someone who understands?
URL:https://bcop.org.uk/event/april-25-dementia-cafe-anita-stone-court/
LOCATION:Anita Stone Court\, 20 Moor Green Lane\, Moseley\, Birmingham\,\, B13 8ND\, United Kingdom
CATEGORIES:Dementia cafe
ATTACH;FMTTYPE=image/png:https://bcop.org.uk/wp-content/uploads/2024/07/Website-Banner-dementia-cafes-scaled.png
ORGANIZER;CN="BCOP":MAILTO:general@bcop.org.uk
END:VEVENT
END:VCALENDAR