BEGIN:VCALENDAR
VERSION:2.0
PRODID:-//BCOP Birmingham - ECPv6.15.20//NONSGML v1.0//EN
CALSCALE:GREGORIAN
METHOD:PUBLISH
X-WR-CALNAME:BCOP Birmingham
X-ORIGINAL-URL:https://bcop.org.uk
X-WR-CALDESC:Events for BCOP Birmingham
REFRESH-INTERVAL;VALUE=DURATION:PT1H
X-Robots-Tag:noindex
X-PUBLISHED-TTL:PT1H
BEGIN:VTIMEZONE
TZID:Europe/London
BEGIN:DAYLIGHT
TZOFFSETFROM:+0000
TZOFFSETTO:+0100
TZNAME:BST
DTSTART:20240331T010000
END:DAYLIGHT
BEGIN:STANDARD
TZOFFSETFROM:+0100
TZOFFSETTO:+0000
TZNAME:GMT
DTSTART:20241027T010000
END:STANDARD
BEGIN:DAYLIGHT
TZOFFSETFROM:+0000
TZOFFSETTO:+0100
TZNAME:BST
DTSTART:20250330T010000
END:DAYLIGHT
BEGIN:STANDARD
TZOFFSETFROM:+0100
TZOFFSETTO:+0000
TZNAME:GMT
DTSTART:20251026T010000
END:STANDARD
BEGIN:DAYLIGHT
TZOFFSETFROM:+0000
TZOFFSETTO:+0100
TZNAME:BST
DTSTART:20260329T010000
END:DAYLIGHT
BEGIN:STANDARD
TZOFFSETFROM:+0100
TZOFFSETTO:+0000
TZNAME:GMT
DTSTART:20261025T010000
END:STANDARD
END:VTIMEZONE
BEGIN:VEVENT
DTSTART;TZID=Europe/London:20250306T103000
DTEND;TZID=Europe/London:20250306T123000
DTSTAMP:20260420T121431
CREATED:20250219T094105Z
LAST-MODIFIED:20250219T094105Z
UID:10000015-1741257000-1741264200@bcop.org.uk
SUMMARY:Dementia cafe at Neville Williams House
DESCRIPTION:Dementia cafes are  informal\, monthly events where people with dementia and their carers can meet and get to know others on a similar journey. \nThe meetings are run by experienced advisors who provide practical support\, advice  and information. They have expert guest speakers. \nEveryone is encouraged to take part in dementia friendly activities\, which will include talks\, music\, arts and crafts\, games and quizzes. They are a great opportunity to have a chat and make new friends. \nOur BCOP care home staff work with the Birmingham Dementia Carers Hub (a partnership between Age UK Birmingham\, Age Concern Birmingham and Dementia Carers Count Birmingham that provides a range of support to those who look after someone with dementia) to support you. \nAll our dementia cafes are free\, so why not come along to one and have a cup of tea with someone who understands?
URL:https://bcop.org.uk/event/march-25-dementia-cafe-neville-williams-house/
LOCATION:Neville Williams House\, 8-14 Greenland Road\, Birmingham\, B29 7PP\, United Kingdom
CATEGORIES:Dementia cafe
ATTACH;FMTTYPE=image/png:https://bcop.org.uk/wp-content/uploads/2024/07/Website-Banner-dementia-cafes-scaled.png
ORGANIZER;CN="BCOP":MAILTO:general@bcop.org.uk
END:VEVENT
BEGIN:VEVENT
DTSTART;TZID=Europe/London:20250307T100000
DTEND;TZID=Europe/London:20250307T120000
DTSTAMP:20260420T121431
CREATED:20250219T095650Z
LAST-MODIFIED:20250219T095650Z
UID:10000019-1741341600-1741348800@bcop.org.uk
SUMMARY:Dementia cafe at Robert Harvey House - CANCELLED THIS MONTH
DESCRIPTION:Sadly we are unable to run this meeting\, We apologise for the short notice. \n Our next meeting will be on Friday\, 4th April. \n  \n  \n 
URL:https://bcop.org.uk/event/march-25-dementia-cafe-robert-harvey-houselle-williams-house/
LOCATION:Robert Harvey House\, Hawthorn Park\, Handsworth Wood\, Birmingham\, B20 1AD\, United Kingdom
CATEGORIES:Dementia cafe
ATTACH;FMTTYPE=image/png:https://bcop.org.uk/wp-content/uploads/2024/07/Website-Banner-dementia-cafes-scaled.png
ORGANIZER;CN="BCOP":MAILTO:general@bcop.org.uk
END:VEVENT
BEGIN:VEVENT
DTSTART;VALUE=DATE:20250317
DTEND;VALUE=DATE:20250318
DTSTAMP:20260420T121431
CREATED:20250312T101308Z
LAST-MODIFIED:20250312T101308Z
UID:10000027-1742169600-1742255999@bcop.org.uk
SUMMARY:St Partick's day celebration at Anita Stone Court
DESCRIPTION:We'll be celebrating Irish culture and taking part in Irish themed activities at Anita Stone Court today
URL:https://bcop.org.uk/event/st-particks-anita-stone-court/
LOCATION:Anita Stone Court\, 20 Moor Green Lane\, Moseley\, Birmingham\,\, B13 8ND\, United Kingdom
END:VEVENT
BEGIN:VEVENT
DTSTART;TZID=Europe/London:20250317T143000
DTEND;TZID=Europe/London:20250317T153000
DTSTAMP:20260420T121431
CREATED:20250115T152435Z
LAST-MODIFIED:20250115T152435Z
UID:10000005-1742221800-1742225400@bcop.org.uk
SUMMARY:Ian Casey sings for St Patrick's Day at Robert Harvey House
DESCRIPTION:We're looking forward to welcoming our very own Ian Casey to entertain us for the afternoon in the lounge\, with an Irish theme especially for St Patrick's day.
URL:https://bcop.org.uk/event/rhh-ian-casey-st-patricks-day/
LOCATION:Robert Harvey House\, Hawthorn Park\, Handsworth Wood\, Birmingham\, B20 1AD\, United Kingdom
END:VEVENT
BEGIN:VEVENT
DTSTART;TZID=Europe/London:20250317T150000
DTEND;TZID=Europe/London:20250317T160000
DTSTAMP:20260420T121431
CREATED:20250226T091541Z
LAST-MODIFIED:20250226T091541Z
UID:10000025-1742223600-1742227200@bcop.org.uk
SUMMARY:Irish singing and dancing at Neville Williams House
DESCRIPTION:Join us in the main lounge as we commemorate St Patrick's day with music and dancing to all your favourite Irish sings.
URL:https://bcop.org.uk/event/irish-singing-and-dancing-at-neville-williams-house/
LOCATION:Neville Williams House\, 8-14 Greenland Road\, Birmingham\, B29 7PP\, United Kingdom
END:VEVENT
BEGIN:VEVENT
DTSTART;TZID=Europe/London:20250320T143000
DTEND;TZID=Europe/London:20250320T153000
DTSTAMP:20260420T121431
CREATED:20250115T153018Z
LAST-MODIFIED:20250115T153018Z
UID:10000006-1742481000-1742484600@bcop.org.uk
SUMMARY:March Birthday celebrations
DESCRIPTION:Join us as we celebrate our residents with a March birthday with a tea and birthday cake in the lounge.
URL:https://bcop.org.uk/event/rhh-march-birthday-celebrations-2/
LOCATION:Robert Harvey House\, Hawthorn Park\, Handsworth Wood\, Birmingham\, B20 1AD\, United Kingdom
END:VEVENT
BEGIN:VEVENT
DTSTART;TZID=Europe/London:20250325T103000
DTEND;TZID=Europe/London:20250325T123000
DTSTAMP:20260420T121431
CREATED:20250219T094452Z
LAST-MODIFIED:20250219T094452Z
UID:10000016-1742898600-1742905800@bcop.org.uk
SUMMARY:Dementia cafe at Anita Stone Court
DESCRIPTION:Dementia cafes are  informal\, monthly events where people with dementia and their carers can meet and get to know others on a similar journey. \nThe meetings are run by experienced advisors who provide practical support\, advice  and information. They have expert guest speakers. \nEveryone is encouraged to take part in dementia friendly activities\, which will include talks\, music\, arts and crafts\, games and quizzes. They are a great opportunity to have a chat and make new friends. \nOur BCOP care home staff work with the Birmingham Dementia Carers Hub (a partnership between Age UK Birmingham\, Age Concern Birmingham and Dementia Carers Count Birmingham that provides a range of support to those who look after someone with dementia) to support you. \nAll our dementia cafes are free\, so why not come along to one and have a cup of tea with someone who understands?
URL:https://bcop.org.uk/event/march-25-dementia-cafe-anita-stone-court-2/
LOCATION:Anita Stone Court\, 20 Moor Green Lane\, Moseley\, Birmingham\,\, B13 8ND\, United Kingdom
CATEGORIES:Dementia cafe
ATTACH;FMTTYPE=image/png:https://bcop.org.uk/wp-content/uploads/2024/07/Website-Banner-dementia-cafes-scaled.png
ORGANIZER;CN="BCOP":MAILTO:general@bcop.org.uk
END:VEVENT
BEGIN:VEVENT
DTSTART;TZID=Europe/London:20250328T143000
DTEND;TZID=Europe/London:20250328T153000
DTSTAMP:20260420T121431
CREATED:20250115T153516Z
LAST-MODIFIED:20250115T153516Z
UID:10000007-1743172200-1743175800@bcop.org.uk
SUMMARY:Mother's Day tea and cakes
DESCRIPTION:Please join us to celebrate and appreciate mums on  Mothers day with our special afternoon tea (and lots of flowers)
URL:https://bcop.org.uk/event/rhh-mothers-day-tea-and-cakes/
LOCATION:Robert Harvey House\, Hawthorn Park\, Handsworth Wood\, Birmingham\, B20 1AD\, United Kingdom
END:VEVENT
END:VCALENDAR